BEGIN:VCALENDAR
VERSION:2.0
PRODID:-//Vida Santa - ECPv6.15.10//NONSGML v1.0//EN
CALSCALE:GREGORIAN
METHOD:PUBLISH
X-WR-CALNAME:Vida Santa
X-ORIGINAL-URL:https://vidasanta.com.mx
X-WR-CALDESC:Eventos para Vida Santa
REFRESH-INTERVAL;VALUE=DURATION:PT1H
X-Robots-Tag:noindex
X-PUBLISHED-TTL:PT1H
BEGIN:VTIMEZONE
TZID:UTC
BEGIN:STANDARD
TZOFFSETFROM:+0000
TZOFFSETTO:+0000
TZNAME:UTC
DTSTART:20240101T000000
END:STANDARD
END:VTIMEZONE
BEGIN:VEVENT
DTSTART;TZID=UTC:20251127T183000
DTEND;TZID=UTC:20251127T210000
DTSTAMP:20260419T154720
CREATED:20251122T201108Z
LAST-MODIFIED:20251122T201108Z
UID:24346-1764268200-1764277200@vidasanta.com.mx
SUMMARY:Thanksgiving
DESCRIPTION:¡Celebremos juntos un Thanksgiving lleno de gratitud y bendiciones! Únete a nuestra celebración. Registra tu asistencia y trae un platillo para compartir (para aproximadamente 20 personas).\nRegístra tu asistencia: \nhttps://wa.link/f8exj1 \n¡Let’s celebrate a Thanksgiving full of gratitude and blessings together! Join us for our celebration on Thursday\, November 27rd at 7:30 pm. Register your attendance and bring a dish to share with approximately 20 people. It’s time to give thanks for all we’ve received this year. We look forward to sharing this festive occasion together!
URL:https://vidasanta.com.mx/event/thanksgiving/
ATTACH;FMTTYPE=image/jpeg:https://vidasanta.com.mx/wp-content/uploads/2025/11/imagen-cena-de-gracias.jpeg
END:VEVENT
BEGIN:VEVENT
DTSTART;TZID=UTC:20251102T113000
DTEND;TZID=UTC:20251102T140000
DTSTAMP:20260419T154720
CREATED:20251023T024538Z
LAST-MODIFIED:20251023T224324Z
UID:24136-1762083000-1762092000@vidasanta.com.mx
SUMMARY:Concierto de Adoración
DESCRIPTION:Ven y vive una experiencia real con Dios.Aquí encontrarás una familia que te recibe con amor\, un lugar donde tu fe crece y tu corazón encuentra propósito.No importa de dónde vengas\, en Cristo siempre hay un nuevo comienzo.
URL:https://vidasanta.com.mx/event/servicio-de-domingo-2/
LOCATION:Iglesia Vida Santa\, Av. Kabah\, SM 43\, Mz 03\, Lote 06 Cancún\, Q.Roo\, Mx
ATTACH;FMTTYPE=image/jpeg:https://vidasanta.com.mx/wp-content/uploads/2025/10/PHOTO-2025-10-23-17-40-03.jpg
END:VEVENT
BEGIN:VEVENT
DTSTART;TZID=UTC:20251026T113000
DTEND;TZID=UTC:20251026T133000
DTSTAMP:20260419T154720
CREATED:20251023T023649Z
LAST-MODIFIED:20251023T024227Z
UID:24132-1761478200-1761485400@vidasanta.com.mx
SUMMARY:Servicio de domingo
DESCRIPTION:
URL:https://vidasanta.com.mx/event/servicio-de-domingo/
LOCATION:Iglesia Vida Santa\, Av. Kabah\, SM 43\, Mz 03\, Lote 06 Cancún\, Q.Roo\, Mx
END:VEVENT
END:VCALENDAR